BEGIN:VCALENDAR
VERSION:2.0
BEGIN:VEVENT
CLASS:PUBLIC
CATEGORIES:MEETING
DTSTART;TZID=America/Chicago:20181006T180000
DTEND;TZID=America/Chicago:20181006T180000
SUMMARY:Soul Punch at Private Event
DESCRIPTION:Age Limit: All Ages\n\nDetails: Private Block Party
LOCATION:Private Event - Downtown STL, Saint Louis, MO, US
END:VEVENT

END:VCALENDAR
