BEGIN:VCALENDAR
VERSION:2.0
BEGIN:VEVENT
CLASS:PUBLIC
CATEGORIES:MEETING
DTSTART;TZID=America/Chicago:20181219T210000
DTEND;TZID=America/Chicago:20181219T210000
SUMMARY:Yellow City Comedy Open Mic! at the 806 coffee + lounge
DESCRIPTION:Price: Donations!\nAge Limit: All Ages
LOCATION:the 806 coffee + lounge - 2812 SW 6th Ave, Amarillo, TX, 79106, US
END:VEVENT

END:VCALENDAR
