BEGIN:VCALENDAR
VERSION:2.0
BEGIN:VEVENT
CLASS:PUBLIC
CATEGORIES:MEETING
DTSTART;TZID=America/Los_Angeles:20180712T180000
DTEND;TZID=America/Los_Angeles:20180712T180000
SUMMARY:Jules Leyhe at Biscuits and Blues
DESCRIPTION:Price: 20\nClick here to buy tickets: https://www.opentable.com/r/biscuits-and-blues-reservations-san-francisco?covers=2&amp;datetime=2018-07-12T18%3A30&amp;restref=2474&amp;searchdatetime=2018-07-12T18%3A30&amp;partysize=2\nAge Limit: All Ages\n\nDetails: It’s hard to find a true blues guitarist in today’s musical landscape, but that’s exactly what you get with Jules Leyhe. Armed with a degree in Guitar Performance from the esteemed Berklee College of Music and with the soul of a musician three times his age, Leyhe combines classic blues guitar with modern electronic instrumentation and creates a sonic mesh you’ll surely feel in your core.\n\nNamed one of Guitar Player Magazine’s 12 Players of Christmas in 2014 as well as the Bay Area Blues Foundation’s All Stars in 2015, Leyhe has already shared the stage with many of Blues’ greatest talents – including Buddy Guy, Charlie Musselwhite, Chris Cain, Jimmy Vivino, Barry Goldberg, Nick Gravenites, Elvin Bishop, and Maria Muldaur.\n\nBoth with his band and on his own, Leyhe has been taking over the San Francisco Bay Area one venue at a time, playing everywhere from the seminal Boom Boom Room to the Sweetwater Music Hall, The Great American Music Hall, Slims, and continually sells out performances at the famed Biscuits &amp; Blues. This year, he will expand his geographic cover by playing a summer west coast tour in support of his newest album, JUICEBOX.
LOCATION:Biscuits and Blues - 401 Mason St, San Francisco, CA, 94102, US
END:VEVENT

END:VCALENDAR
