BEGIN:VCALENDAR
VERSION:2.0
BEGIN:VEVENT
CLASS:PUBLIC
CATEGORIES:MEETING
DTSTART;TZID=America/Chicago:20180728T190000
DTEND;TZID=America/Chicago:20180728T190000
SUMMARY:Soul Punch at Bishops Post
DESCRIPTION:Age Limit: All Ages\n\nDetails: Fun Cover Show 7-10 PM
LOCATION:Bishops Post - 16125 Chesterfield Parkway West, Chesterfield, MO, 63017, US
END:VEVENT

END:VCALENDAR
