BEGIN:VCALENDAR
VERSION:2.0
BEGIN:VEVENT
CLASS:PUBLIC
CATEGORIES:MEETING
DTSTART;TZID=America/Chicago:20180721T190000
DTEND;TZID=America/Chicago:20180721T190000
SUMMARY:Soul Punch at Private Party
DESCRIPTION:Age Limit: All Ages\n\nDetails: Private 40th Birthday Party
LOCATION:Private Party - Private, St. Louis, MO, 63118, US
END:VEVENT

END:VCALENDAR
