BEGIN:VCALENDAR
VERSION:2.0
BEGIN:VEVENT
CLASS:PUBLIC
CATEGORIES:MEETING
DTSTART;TZID=Europe/Athens:20180704T203000
DTEND;TZID=Europe/Athens:20180704T203000
SUMMARY:Alex Papadiamantis at Υπαίθριο Θέατρο Ν.Φιλαδέλφειας
DESCRIPTION:Price: free\nAge Limit: All Ages\n\nDetails: Sylvia Alex &amp; the Band
LOCATION:Υπαίθριο Θέατρο Ν.Φιλαδέλφειας - 15 Dekelias, Metamorfosi, 144 51, GR
END:VEVENT

END:VCALENDAR
