BEGIN:VCALENDAR
VERSION:2.0
BEGIN:VEVENT
CLASS:PUBLIC
CATEGORIES:MEETING
DTSTART;TZID=Europe/Amsterdam:20180824T180000
DTEND;TZID=Europe/Amsterdam:20180824T180000
SUMMARY:LMJ3/SteampunkFUNK Bizarre at DESC-Dutch Euro Steampunk Convention
DESCRIPTION:Age Limit: All Ages
LOCATION:DESC-Dutch Euro Steampunk Convention - bovenburen 104b, 9675 HH, Winschoten, NL
END:VEVENT

END:VCALENDAR
