BEGIN:VCALENDAR
VERSION:2.0
BEGIN:VEVENT
CLASS:PUBLIC
CATEGORIES:MEETING
DTSTART;TZID=Europe/London:20180713T180000
DTEND;TZID=Europe/London:20180713T180000
SUMMARY:LMJ3/SteampunkFUNK Bizarre at South Wales Steampunk Extraordinarium! 2018
DESCRIPTION:Age Limit: All Ages\n\nDetails: Wee Crafty Folk once again sponsors the amazing Steampunk Extraordinarium at Blaenevan Ironworks
LOCATION:South Wales Steampunk Extraordinarium! 2018 - pin Gwaith Haearn Blaenafon / Blaenavon Ironworks North Street,, Blaenavon, NP4 9RQ, UK
END:VEVENT

END:VCALENDAR
