BEGIN:VCALENDAR
VERSION:2.0
BEGIN:VEVENT
CLASS:PUBLIC
CATEGORIES:MEETING
DTSTART;TZID=Europe/London:20180526T180000
DTEND;TZID=Europe/London:20180526T180000
SUMMARY:LMJ3/SteampunkFUNK Bizarre at Crewe Steampunk Convivial 
DESCRIPTION:Age Limit: All Ages\n\nDetails: Late May Bank Holiday Weekend in Crewe, definitely THE place to be for Steampunks. Three Nights and Three Days of Splendid Fun.
LOCATION:Crewe Steampunk Convivial  - Lifestyle Centre Crewe CW1 2BB, Crewe, CW1 2BB, UK
END:VEVENT

END:VCALENDAR
