BEGIN:VCALENDAR
VERSION:2.0
BEGIN:VEVENT
CLASS:PUBLIC
CATEGORIES:MEETING
DTSTART;TZID=America/New_York:20230526T150000
DTEND;TZID=America/New_York:20230526T150000
SUMMARY:Lenny Wiles Lionstar n' Supernatural Gears at Blood Moon Minstrel Festival
DESCRIPTION:Age Limit: All Ages\n\nDetails: Announcement song from the TelepAthic Girl Of The StArs http://jamen.do/t/1514737 Upcoming Event for the great american guitar and amp drop in 2023. Nebulon Starships scheduled to drop guitar and amps over war zones around the world. JaKOBS DIaRY, TRaNCE OF THE MONaRCH BUTTERFLY.&quot; http://www.supernaturalgears.org\nEnter the ancient Blood Moon Clan Song Vault to find songs for your project. http://jamen.do/a/503956 Reference Lenny Wiles Lionstar, supernaturalgears.org
LOCATION:Blood Moon Minstrel Festival - Lift Off address: apollo park yr. 2023, Brogue, PA, 17306, US
END:VEVENT

END:VCALENDAR
