BEGIN:VCALENDAR
VERSION:2.0
BEGIN:VEVENT
CLASS:PUBLIC
CATEGORIES:MEETING
DTSTART;TZID=America/Edmonton:20100923T190000
DTEND;TZID=America/Edmonton:20100923T190000
SUMMARY:HERMANS HERMITS   Peter Noone at Century Casino Showroom
DESCRIPTION:Price: TBA\nClick here to buy tickets: http://www.cnty.com/casinos/edmonton/casino/promotions-events/\nAge Limit: All Ages
LOCATION:Century Casino Showroom - 13103 Fort Rd NW, Edmonton, AB, T5A 1C3, CA
END:VEVENT

END:VCALENDAR
