BEGIN:VCALENDAR
VERSION:2.0
BEGIN:VEVENT
CLASS:PUBLIC
CATEGORIES:MEETING
DTSTART;TZID=America/Los_Angeles:20180701T120000
DTEND;TZID=America/Los_Angeles:20180701T120000
SUMMARY:PAMELA PARKER at Commons Beach
DESCRIPTION:Age Limit: All Ages\n\nDetails: Common&#39;s Beach summer concert in North Lake Tahoe with the Guitarfish Allstar Family Band featuring Jimmy Leslie, Pamela Parker, Jules Leyhe, Fletcher Nielson, Steve LaBella, Chris McGrew, Ashley Kepler, Jeremy Hoenig, and more.  \n\nCome hang with us and get a taste of what the Guitarfish Festival will be like coming up at the end of July.  www.GuitarfishFestival.com
LOCATION:Commons Beach - Tahoe City, CA, US
END:VEVENT

END:VCALENDAR
