BEGIN:VCALENDAR
VERSION:2.0
BEGIN:VEVENT
CLASS:PUBLIC
CATEGORIES:MEETING
DTSTART;TZID=America/Chicago:20180929T140000
DTEND;TZID=America/Chicago:20180929T140000
SUMMARY:Arlowe Price at Psychobilly Nightmare Freakshow at Hopper's Haunted House!
DESCRIPTION:Price: $10 in advance -- $15 at the door\nClick here to buy tickets: https://www.deathclownrecords.com/shop.html\nAge Limit: All Ages\n\nDetails: COSTUME CONTEST PARADE @ 9 PM\n1st prize = $300\n2nd prize = Night for 2 @ Dead &amp; Breakfast B&amp;B!\n3rd Prize = $100 gift certificate to Social Urban Bar &amp; Restaurant!\n\nCOSTUME CONTEST RULES:\n1. Pay for a festival ticket AND a costume contest ticket.\n2. Be present and participate in the Costume Contest Parade at 9 PM.\n3. Be present at 11 PM when winners are announced.\nGood Luck!!!\n\nWe&#39;re kicking off the 24th annual season-opening of Hopper&#39;s Haunted House in Rockford, Illinois, with a massive wild and crazy full-on freak-show festival! \n\nIn addition to the 8 bands &amp; the haunted house, there will be a Body Contortionist and Burlesque Show performing in between bands! With fire jugglers and flaming hula-hoops on a 2nd stage, body-piercing &amp; tattoo artists, glass, jewelry and other vendors, full-bar service, and a wide variety of food!\n* * *\nThe day-show is Family-Friendly 2 pm to 7 pm w/face-painters &amp; rides for the kids!\nThe Night Show from 7pm to Midnight will be intense!\n\nWear your best costume and win a prize!\nCostume Contest Parade @ 9 PM &gt; &gt; 1st prize = $300!\n2nd prize = Night for 2 @ Dead &amp; Breakfast B&amp;B!\n3rd Prize = $100 gift certificate to Social Urban Bar &amp; Restaurant!\n\nGet a discount when you Pre-Order your tickets in advance:\nPre-Order Online $10 - [OR] - $15 at the door\nKids under 12 get in free!\n\nHaunted House $15 at the door\n\nNIGHT SHOW:\n11:20 to 12:00 AM	Reckless Redemption\n10:00 to 10:50 PM	99 Proof Devils\n8:40 to 9:30 PM	Psychobilly Death Clowns\n7:20 to 8:10 PM	Bloody Gulch\n\nDAY SHOW:\n6:00 to 6:50 PM	Black Road\n4:40 to 5:30 PM	Isles of Aura\n3:20 to 4:10 PM	The Sparrow\n2:00 to 2:50 PM	The Core\n\n2nd stage between bands:The Reverend Arlowe Price &amp; Dream Catcher Performing Arts\nTickets on sale NOW at: https://www.deathclownrecords.com\n* * *\nSee Arlowe Price, Reckless Redemption, 99 Proof Devils, Psychobilly Death Clowns, Bloody Gulch, Black Road, Isles of Aura, The Sparrow, The Core- Shawn Williams, Katiepillar Performance Arts, Dream Catcher Performing arts, Grindhouse Tease, &amp; Timothy Edwards of The Revolution Regional Radio Stage, PLUS artisans &amp; vendors such as Silver Scales Chain Mail, Starved Rock Pizza, ZunZun Essentials, Rockford Music, The Bubble Hive, Dan Basset Art LLC, Gala&#39;s Snack Shack, Tattoo Bob&#39;s, Hey Brothers Ice Cream, Art By Rembry, Moni Rocks, Artist Jessie Gene Prouty, The Olive Branch, Hempworx with Christina, Trogg&#39;s Hollow, Oddities Of Nature Jewelry, Allyn&#39;s Going Bananas, Tarot card readings by Shelly, Shawn McMillen Photography, The Wild Iris Gifts &amp; Botanicals, Rockton Inn Pub Grub &amp; BBQ, Madame Moth, Glitter to Gore, Stewart Eatery/Kantina&#39;s Tacos, Madman Productions, and many more at Hoppers Haunted House!\n-\nBooking (855) 755-6274\nbooking@DeathClownRecords.com\nCopyright 2018 © Death Clown Records LLC. Psychobilly Death Clowns™ All Rights Reserved. Management by MPI Services\n-\n#Psychobilly #Nightmare #Freakshow #Festival #LiveMusic #LiveBands #FallMusicFestival #MusicFestival #HauntedHouse #RecklessRedemption #99ProofDevils #PsychobillyDeathClowns #BloodyGulch #BlackRoad #IslesOfAura #TheSparrow #TheCore #ArlowePrice #DeathClownRecords #DCRecords #HoppersHaunterHouse #MPIservices
LOCATION:Psychobilly Nightmare Freakshow at Hopper's Haunted House! - 11576 IL 2, Rockford, IL, 61102, US
END:VEVENT

END:VCALENDAR
