BEGIN:VCALENDAR
VERSION:2.0
BEGIN:VEVENT
CLASS:PUBLIC
CATEGORIES:MEETING
DTSTART;TZID=America/New_York:20180811T180000
DTEND;TZID=America/New_York:20180811T180000
SUMMARY:MIKE FREUND at The Charleston Pour House
DESCRIPTION:Age Limit: All Ages\n\nDetails: on the deck\nDoors. Open at 4p\nOpening act at 5p\nMike freunds at 7p
LOCATION:The Charleston Pour House - 1977 Maybank Highway, Charleston, SC, 29412, US
END:VEVENT

END:VCALENDAR
