BEGIN:VCALENDAR
VERSION:2.0
BEGIN:VEVENT
CLASS:PUBLIC
CATEGORIES:MEETING
DTSTART;TZID=America/New_York:20180519T133000
DTEND;TZID=America/New_York:20180519T133000
SUMMARY:Eliana Marcia at Union Settlement
DESCRIPTION:Price: free\nAge Limit: All Ages\n\nDetails: Eliana Marcia will be performing with her Trio feat. Henning Stumm dr and Billy Newman guit. at the 26th annual Ethnic Festival in El Bario on East 104th Street between 2nd and 3rd Avenue.
LOCATION:Union Settlement - East 104th Street between 2nd & 3rd Ave, New York, NY, 10029, US
END:VEVENT

END:VCALENDAR
