BEGIN:VCALENDAR
VERSION:2.0
BEGIN:VEVENT
CLASS:PUBLIC
CATEGORIES:MEETING
DTSTART;TZID=Europe/Athens:20180515T203000
DTEND;TZID=Europe/Athens:20180515T203000
SUMMARY:Alex Papadiamantis at Pallas Theater
DESCRIPTION:Age Limit: All Ages\n\nDetails: Concert with Stamatis Spanoudakis
LOCATION:Pallas Theater - Athens, GR
END:VEVENT

END:VCALENDAR
