BEGIN:VCALENDAR
VERSION:2.0
BEGIN:VEVENT
CLASS:PUBLIC
CATEGORIES:MEETING
DTSTART;TZID=America/New_York:20181020T190000
DTEND;TZID=America/New_York:20181020T190000
SUMMARY:jill knight at Tybee Post Theater
DESCRIPTION:Price: 20.00\nClick here to buy tickets: https://tybeeposttheater.showare.com/\nAge Limit: All Ages\n\nDetails: The Southern Songbird Series at The Tybee Post Theater Presents and evening in the round with some of the South&#39;s finest singer songwriters. This show will probably sell out, get your tickets at the link above. 
LOCATION:Tybee Post Theater - 10 Meddin,  Box 2356, Tybee Island, GA, 31328, US
END:VEVENT

END:VCALENDAR
