BEGIN:VCALENDAR
VERSION:2.0
BEGIN:VEVENT
CLASS:PUBLIC
CATEGORIES:MEETING
DTSTART;TZID=Europe/Athens:20180529T203000
DTEND;TZID=Europe/Athens:20180529T203000
SUMMARY:Alex Papadiamantis at Aristoteles Universität Thessaloniki
DESCRIPTION:Age Limit: All Ages
LOCATION:Aristoteles Universität Thessaloniki - Aristotle University of Thessaloniki, Thessaloniki, 54124, GR
END:VEVENT

END:VCALENDAR
