BEGIN:VCALENDAR
VERSION:2.0
BEGIN:VEVENT
CLASS:PUBLIC
CATEGORIES:MEETING
DTSTART;TZID=America/Chicago:20180508T153000
DTEND;TZID=America/Chicago:20180508T153000
SUMMARY:Soul Punch at Broadway Oyster Bar
DESCRIPTION:Age Limit: All Ages\n\nDetails: Post Cardinal Game Fun at Broadway Oyster bar! 
LOCATION:Broadway Oyster Bar - 736 S Broadway, St Louis, MO, 63102, US
END:VEVENT

END:VCALENDAR
