BEGIN:VCALENDAR
VERSION:2.0
BEGIN:VEVENT
CLASS:PUBLIC
CATEGORIES:MEETING
DTSTART;TZID=America/New_York:20180530T200000
DTEND;TZID=America/New_York:20180530T200000
SUMMARY:R Rene Russell Music at The Windjammer
DESCRIPTION:Age Limit: 18+ or w/ adult\n\nDetails: Single Release show for Rene Russell- &quot;I Wonder, Do You?&quot; 
LOCATION:The Windjammer - 1008 Ocean Blvd, Isle of Palms, SC, 29451, US
END:VEVENT

END:VCALENDAR
