BEGIN:VCALENDAR
VERSION:2.0
BEGIN:VEVENT
CLASS:PUBLIC
CATEGORIES:MEETING
DTSTART;TZID=America/New_York:20180512T183000
DTEND;TZID=America/New_York:20180512T183000
SUMMARY:Danielle Howle at The Train Depot
DESCRIPTION:Price: $16 adv./$21 DOS\nClick here to buy tickets: https://www.freshtix.com/events/danielle-howle-with-special-guest-carly-gibson-2\nAge Limit: All Ages\n\nDetails: Carly Gibson opens for Danielle Howle!\nDoors 6:30 / showtime 7:30 pm sharp.
LOCATION:The Train Depot - 106 Depot Street Northwest, Lawrenceville, GA, 30046, US
END:VEVENT

END:VCALENDAR
