BEGIN:VCALENDAR
VERSION:2.0
BEGIN:VEVENT
CLASS:PUBLIC
CATEGORIES:MEETING
DTSTART;TZID=Europe/Athens:20180427T200000
DTEND;TZID=Europe/Athens:20180427T200000
SUMMARY:Alex Papadiamantis at Pikermi Rafina fest 2018
DESCRIPTION:Price: free\nAge Limit: All Ages
LOCATION:Pikermi Rafina fest 2018 - Agiou Christoforou, Pikermi, GR
END:VEVENT

END:VCALENDAR
