BEGIN:VCALENDAR
VERSION:2.0
BEGIN:VEVENT
CLASS:PUBLIC
CATEGORIES:MEETING
DTSTART;TZID=America/New_York:20100613T130000
DTEND;TZID=America/New_York:20100613T130000
SUMMARY:Starmount at Rebus Fest 4
DESCRIPTION:Price: free\nAge Limit: All Ages\n\nDetails: Rebus Fest 4!
LOCATION:Rebus Fest 4 - 301 Kinsey St, Raleigh, NC, 27603, US
END:VEVENT

END:VCALENDAR
