BEGIN:VCALENDAR
VERSION:2.0
BEGIN:VEVENT
CLASS:PUBLIC
CATEGORIES:MEETING
DTSTART;TZID=Europe/Berlin:20180425T190000
DTEND;TZID=Europe/Berlin:20180425T190000
SUMMARY:BB BlackDog Steampunk Rock at Hexenkessel 
DESCRIPTION:Price: Free/Hat \nAge Limit: All Ages\n\nDetails: Full Band Featuring Dale Rowles, Bass and Vocals Dominic Dillion, Drums Miles Halpin Bass 2 Sets, \nMany Drinks at one of the best Bars in the World.
LOCATION:Hexenkessel  - Hinterhörn 7, Oldenburg, SH, 23758, DE
END:VEVENT

END:VCALENDAR
