BEGIN:VCALENDAR
VERSION:2.0
BEGIN:VEVENT
CLASS:PUBLIC
CATEGORIES:MEETING
DTSTART;TZID=Europe/Berlin:20180426T200000
DTEND;TZID=Europe/Berlin:20180426T200000
SUMMARY:BB BlackDog Steampunk Rock at Palenke
DESCRIPTION:Price: Free/Hat \nAge Limit: All Ages\n\nDetails: Full Band Featuring \nDale Rowles, Bass and Vocals\nDominic Dillion, Drums\nMiles Halpin Bass\n2 Sets, Many Drinks at another of the best Bars in the World. \nhttp://www.innerpalenke.de/\n
LOCATION:Palenke - 91 Gerhardstrae, Ki, SH, 24105, DE
END:VEVENT

END:VCALENDAR
