BEGIN:VCALENDAR
VERSION:2.0
BEGIN:VEVENT
CLASS:PUBLIC
CATEGORIES:MEETING
DTSTART;TZID=America/Los_Angeles:20180617T170000
DTEND;TZID=America/Los_Angeles:20180617T170000
SUMMARY:Jules Leyhe at Biscuits and Blues
DESCRIPTION:Price: 20\nClick here to buy tickets: https://www.opentable.com/r/biscuits-and-blues-reservations-san-francisco?covers=2&amp;datetime=2018-06-17T18%3A30&amp;restref=2474&amp;searchdatetime=2018-06-17T18%3A30&amp;partysize=2\nAge Limit: All Ages\n\nDetails: Two Shows: 7pm &amp; 9pm
LOCATION:Biscuits and Blues - 401 Mason St, San Francisco, CA, 94102, US
END:VEVENT

END:VCALENDAR
