BEGIN:VCALENDAR
VERSION:2.0
BEGIN:VEVENT
CLASS:PUBLIC
CATEGORIES:MEETING
DTSTART;TZID=Europe/London:20180408T130000
DTEND;TZID=Europe/London:20180408T130000
SUMMARY:BB BlackDog Steampunk Rock at NOTTINGHAM: The Malt Cross Music Hall
DESCRIPTION:Price: Free\nAge Limit: All Ages\n\nDetails: Come one, come all but please don&#39;t fall as you rush to answer our steamy call.\nSteampunk Sunday returns to the marvelous Malt Cross to share the delights of music, markets, thrills and spills of circus skill and the general tomfoolery that you know we like to get up to.\n\nTogether we shall celebrate spring with a fete worse than death.\nThat is presuming death puts on an amazing party which we can only aim to emulate.\n\nAs always you are the stars that light the night sky of our hearts and we cannot wait to see you there.\n\nAll for free.\n\nTrent Navigation Company\nShanty and sea-song group\nhttps://www.facebook.com/TNCShantycrew/\n\nCaptain Kuppa T and the Zeppelin Crew\nAcapella act extraordinaire\nhttps://www.facebook.com/kuppatandthezeppelincrew/\n\nThe Cogkneys\nMusic hall merriment\nhttps://www.facebook.com/thecogkneys/\n\nBB Blackdog\nPsychedelic rock\nhttps://www.facebook.com/BBBLACKDOG/\n\nDr. Corvus Marconi\nMesmerism and unbelievable feats\nhttps://www.facebook.com/corvusmarconi/\n\nDr. Cornelius Porridge\nAdventurer, part time-traveler, part badger and definitely not connected to the Bishop of Squid \nhttps://www.facebook.com/Drcporridge/\n\nCherry Twirls\nHula hoop skills display\nhttps://www.facebook.com/Cherrytwirls/\n\nSam The Entertainer\nhttps://www.facebook.com/SuperSam2000/\n\nBeeston Musical Theatre Group\nhttps://www.facebook.com/OfficialBMTG/\n\nMarvellous market traders:\n
LOCATION:NOTTINGHAM: The Malt Cross Music Hall - 16 ST JAMES'S ST, Nottingham, NGM, NG1 6FG, UK
END:VEVENT

END:VCALENDAR
