BEGIN:VCALENDAR
VERSION:2.0
BEGIN:VEVENT
CLASS:PUBLIC
CATEGORIES:MEETING
DTSTART;TZID=America/Chicago:20180602T190000
DTEND;TZID=America/Chicago:20180602T190000
SUMMARY:Soul Punch at Walnut Grill
DESCRIPTION:Age Limit: All Ages\n\nDetails: Back at the Walnut in Sunset Hills! 7-10PM! 
LOCATION:Walnut Grill - 10797 Sunset Hills Plaza, St. Louis, MO, 63127, US
END:VEVENT

END:VCALENDAR
