BEGIN:VCALENDAR
VERSION:2.0
BEGIN:VEVENT
CLASS:PUBLIC
CATEGORIES:MEETING
DTSTART;TZID=Europe/Athens:20180513T210000
DTEND;TZID=Europe/Athens:20180513T210000
SUMMARY:Alex Papadiamantis at Pallas Theater
DESCRIPTION:Age Limit: All Ages
LOCATION:Pallas Theater - Athens, GR
END:VEVENT

END:VCALENDAR
