BEGIN:VCALENDAR
VERSION:2.0
BEGIN:VEVENT
CLASS:PUBLIC
CATEGORIES:MEETING
DTSTART;TZID=Europe/Athens:20180413T213000
DTEND;TZID=Europe/Athens:20180413T213000
SUMMARY:Alex Papadiamantis at El convento del Arte
DESCRIPTION:Price: 10 euro\nAge Limit: All Ages
LOCATION:El convento del Arte - virginias Benaki 7, Athens, 104 36, GR
END:VEVENT

END:VCALENDAR
