BEGIN:VCALENDAR
VERSION:2.0
BEGIN:VEVENT
CLASS:PUBLIC
CATEGORIES:MEETING
DTSTART;TZID=America/Toronto:20180407T183000
DTEND;TZID=America/Toronto:20180407T183000
SUMMARY:Amanda Cottreau at The Origin Arts & Community Centre
DESCRIPTION:Price: $15 - $25\nClick here to buy tickets: https://guestli.st/502284\nAge Limit: 19+\n\nDetails: Celebrate HER: Expressions of the Feminine.  Jacqui du Toit and I are co-creating a women-centric artistic showcase, on Saturday April 7th, 2018 (7-10pm) at The Origin Studio.  Doors open at 6:30pm. \n\nThis is non-alcoholic and gender inclusive / non-binary event.  All (19+) welcome!\n\nThis will be a celebratory evening featuring a diverse offering of live music, poetry, storytelling and burlesque dance! \n\nPartial proceeds will go to benefit the Sexual Assault Support Centre (SASC) in Ottawa.\n
LOCATION:The Origin Arts & Community Centre - 57 Lyndale Avenue, Ottawa, ON, K1Y 2M6, CA
END:VEVENT

END:VCALENDAR
