BEGIN:VCALENDAR
VERSION:2.0
BEGIN:VEVENT
CLASS:PUBLIC
CATEGORIES:MEETING
DTSTART;TZID=Europe/Berlin:20180317T210000
DTEND;TZID=Europe/Berlin:20180317T210000
SUMMARY:PASSION - Tracey Mun Roe at Alter Schwede
DESCRIPTION:Age Limit: All Ages\n\nDetails: This is a friendly, comfortable, non-smoking place where you get drinks at reasonable prices. Opening hours: 2 p.m. to 0.00 a.m.
LOCATION:Alter Schwede - Schwedenstraße 11 A, Berlin, BE, 13357, DE
END:VEVENT

END:VCALENDAR
