BEGIN:VCALENDAR
VERSION:2.0
BEGIN:VEVENT
CLASS:PUBLIC
CATEGORIES:MEETING
DTSTART;TZID=America/New_York:20180512T200000
DTEND;TZID=America/New_York:20180512T200000
SUMMARY:Nancy & The NO BAD DAYS BAND at The Stanhope House
DESCRIPTION:Price: $15.00\nClick here to buy tickets: http://stanhopehouse.box-officetickets.com\nAge Limit: All Ages\n\nDetails: No Bad Days is thrilled to be opening for:\nAllman Brother Johnny Neel with Screamin Eagle Band At The Stanhope House
LOCATION:The Stanhope House - 45 Main Street, Stanhope, NJ, 07874, US
END:VEVENT

END:VCALENDAR
