BEGIN:VCALENDAR
VERSION:2.0
BEGIN:VEVENT
CLASS:PUBLIC
CATEGORIES:MEETING
DTSTART;TZID=America/Los_Angeles:20180303T213000
DTEND;TZID=America/Los_Angeles:20180303T213000
SUMMARY:David Dot Hale & Blind Lemon Peel All-Stars at The Lucky Stone Pub
DESCRIPTION:Age Limit: All Ages
LOCATION:The Lucky Stone Pub - 28636 Old Town Front Street, Temecula, CA, 92590, US
END:VEVENT

END:VCALENDAR
