BEGIN:VCALENDAR
VERSION:2.0
BEGIN:VEVENT
CLASS:PUBLIC
CATEGORIES:MEETING
DTSTART;TZID=America/Los_Angeles:20100530T200000
DTEND;TZID=America/Los_Angeles:20100530T200000
SUMMARY:Dead Winter Carpenters at Red Dog Saloon
DESCRIPTION:
LOCATION:Red Dog Saloon - 76 C St, Virginia City, NV, 89521, US
END:VEVENT

END:VCALENDAR
