BEGIN:VCALENDAR
VERSION:2.0
BEGIN:VEVENT
CLASS:PUBLIC
CATEGORIES:MEETING
DTSTART;TZID=America/Chicago:20180331T200000
DTEND;TZID=America/Chicago:20180331T200000
SUMMARY:Soul Punch at Vintage Wine Bar
DESCRIPTION:Age Limit: All Ages\n\nDetails: Fun Cover Show 8 to Whenever!! 
LOCATION:Vintage Wine Bar - 212 South Main Street, Waterloo, IL, 62298, US
END:VEVENT

END:VCALENDAR
