BEGIN:VCALENDAR
VERSION:2.0
BEGIN:VEVENT
CLASS:PUBLIC
CATEGORIES:MEETING
DTSTART;TZID=America/Chicago:20180317T190000
DTEND;TZID=America/Chicago:20180317T190000
SUMMARY:Soul Punch at The Wolf Public House
DESCRIPTION:Click here to buy tickets: http://thewolfstl.com/calendar/?cid=mc-30c031f3e51e7c50e805261ec0b01b82&amp;mc_id=3713\nAge Limit: All Ages\n\nDetails: Fun Cover Show 7-10PM!!! 
LOCATION:The Wolf Public House - 15480 Clayton Rd, Ballwin, MO, 63011, US
END:VEVENT

END:VCALENDAR
