BEGIN:VCALENDAR
VERSION:2.0
BEGIN:VEVENT
CLASS:PUBLIC
CATEGORIES:MEETING
DTSTART;TZID=America/New_York:20180203T200000
DTEND;TZID=America/New_York:20180203T200000
SUMMARY:Tastes Like Chicken at Hot Fish Club
DESCRIPTION:Price: No Cover\nAge Limit: All Ages\n\nDetails: Chad and Lance Shirley Duo from @Tastes Like Chicken - Florence, SC
LOCATION:Hot Fish Club - 4911 Hwy 17 Bus, Murrells Inlet, SC, 29576, US
END:VEVENT

END:VCALENDAR
