BEGIN:VCALENDAR
VERSION:2.0
BEGIN:VEVENT
CLASS:PUBLIC
CATEGORIES:MEETING
DTSTART;TZID=America/Los_Angeles:20180707T200000
DTEND;TZID=America/Los_Angeles:20180707T200000
SUMMARY:David Dot Hale & Blind Lemon Peel All-Stars at Hayward Russell City Blues Festival
DESCRIPTION:Age Limit: All Ages
LOCATION:Hayward Russell City Blues Festival - B Street, Hayward, CA, 94541, US
END:VEVENT

END:VCALENDAR
