BEGIN:VCALENDAR
VERSION:2.0
BEGIN:VEVENT
CLASS:PUBLIC
CATEGORIES:MEETING
DTSTART;TZID=Europe/Berlin:20180405T200000
DTEND;TZID=Europe/Berlin:20180405T200000
SUMMARY:Charles M. Mailer at Omnibus
DESCRIPTION:Age Limit: All Ages\n\nDetails: Musikertreff Würzburg with open stage and Session.\n\n
LOCATION:Omnibus - Theaterstraße 10, Würzburg, BR, 97070, DE
END:VEVENT

END:VCALENDAR
