BEGIN:VCALENDAR
VERSION:2.0
BEGIN:VEVENT
CLASS:PUBLIC
CATEGORIES:MEETING
DTSTART;TZID=Europe/Berlin:20180418T200000
DTEND;TZID=Europe/Berlin:20180418T200000
SUMMARY:Charles M. Mailer at Goldene Krone
DESCRIPTION:Age Limit: All Ages\n\nDetails: Guess it&#39;s my 6th time there - love this venue. Playing at the small stage in the Pub.
LOCATION:Goldene Krone - Schustergasse 18, Darmstadt, HE, 64283, DE
END:VEVENT

END:VCALENDAR
