BEGIN:VCALENDAR
VERSION:2.0
BEGIN:VEVENT
CLASS:PUBLIC
CATEGORIES:MEETING
DTSTART;TZID=Europe/Berlin:20180321T200000
DTEND;TZID=Europe/Berlin:20180321T200000
SUMMARY:Charles M. Mailer at Kofferfabrik
DESCRIPTION:Age Limit: All Ages\n\nDetails: Blues Wednesday with a suitcase full of Blues\n\nLineUp:\nGerald Haussner - Drums\nKlaus Neubert - Guitar\nCharles M. Mailer - Vocals, Keyboards
LOCATION:Kofferfabrik - 81 Lange Strae, F, BY, 90762, DE
END:VEVENT

END:VCALENDAR
