BEGIN:VCALENDAR
VERSION:2.0
BEGIN:VEVENT
CLASS:PUBLIC
CATEGORIES:MEETING
DTSTART;TZID=America/Toronto:20180222T193000
DTEND;TZID=America/Toronto:20180222T193000
SUMMARY:Amanda Cottreau at Live on Elgin
DESCRIPTION:Price: $20\nClick here to buy tickets: https://www.liveonelgin.com/collections/shows/products/the-vagina-monologues\nAge Limit: 18+ or w/ adult\n\nDetails: In honour of the 20th anniversary of the show and in support of Sexual Assault Support Centre Ottawa, the Vagina Monologues is being performed by incredible in the Ottawa/Gatineau community, including yours truly!\n\nFor those looking to buy tickets to see me perform in the Vagina Monologues (Feb 22-23, 2018), please purchase via Live on Elgin. \n\nSelect a date, add to cart and claim your virtual ticket!  Space is extremely limited and this show will sell out.  Reserve your seat while you still can.\n\n#vaginamonologues #ottawa #sasc #2018 #untiltheviolencestops\n{(V)}
LOCATION:Live on Elgin - 220 Elgin Street, Ottawa, ON, K2P 1L7, CA
END:VEVENT

END:VCALENDAR
