BEGIN:VCALENDAR
VERSION:2.0
BEGIN:VEVENT
CLASS:PUBLIC
CATEGORIES:MEETING
DTSTART;TZID=America/Los_Angeles:20180224T200000
DTEND;TZID=America/Los_Angeles:20180224T200000
SUMMARY:David Dot Hale & Blind Lemon Peel All-Stars at Urban Press Winery
DESCRIPTION:Age Limit: All Ages
LOCATION:Urban Press Winery - 316 North San Fernando Boulevard, Burbank, CA, 91502, US
END:VEVENT

END:VCALENDAR
