BEGIN:VCALENDAR
VERSION:2.0
BEGIN:VEVENT
CLASS:PUBLIC
CATEGORIES:MEETING
DTSTART;TZID=America/Kentucky/Louisville:20180331T200000
DTEND;TZID=America/Kentucky/Louisville:20180331T200000
SUMMARY:PR1 Promotions / DJ Tiburon at Bearnos On The River, Jeffersonville Indiana
DESCRIPTION:Age Limit: All Ages\n\nDetails: yes you read that right... the great one and only RON JEREMY, porn star Legend will be performing his comedy routine at Barrelhouse on Market on March 31st courtesy of pr1 promotions.  get your tickets early to save some money as this show will sell out this will be a 3-day tour beginning at smokestack in Mishawaka following up with Kokomo, in with this being his final show and the last opportunity for pictures and conversation with the legend himself.  Don&#39;t miss out. Ticket information will be available for presale in Feb. Another PR1 Promotions Experience 2018.
LOCATION:Bearnos On The River, Jeffersonville Indiana - 700 W Riverside Dr, Jeffersonville, IN, 47130, US
END:VEVENT

END:VCALENDAR
