BEGIN:VCALENDAR
VERSION:2.0
BEGIN:VEVENT
CLASS:PUBLIC
CATEGORIES:MEETING
DTSTART;TZID=America/Indiana/Indianapolis:20180329T190000
DTEND;TZID=America/Indiana/Indianapolis:20180329T190000
SUMMARY:PR1 Promotions / DJ Tiburon at Smokestack Brew
DESCRIPTION:Age Limit: 21+\n\nDetails: yes you read that right!!... the great one and only RON JEREMY, porn star Legend will be performing his comedy routine at smokestack Brew on March 29th courtesy of pr1 promotions.  get your tickets early to save some money as this show will sell out this will be a 3-day tour beginning at smokestack in Mishawaka following up with Kokomo, in and then continuing on to Louisville.  Another PR1 Promotions Experience 2018.
LOCATION:Smokestack Brew - 100 North Center Street, Mishawaka, IN, 46544, US
END:VEVENT

END:VCALENDAR
