BEGIN:VCALENDAR
VERSION:2.0
BEGIN:VEVENT
CLASS:PUBLIC
CATEGORIES:MEETING
DTSTART;TZID=America/New_York:20180128T173000
DTEND;TZID=America/New_York:20180128T173000
SUMMARY:Caroline Aiken at NEW SOUTH SHOWCASE @ Vega Studios
DESCRIPTION:Price: 15.00\nClick here to buy tickets: http://www.carolineaiken.com\nAge Limit: All Ages\n\nDetails: Hold limited seating by paypal payment: carolineaiken@gmail.com\nLive recording of these amazing songwriters/performers with a live audience in Vega Studios, a recording studio with a live performance area. Facebook live, recording, live sound and 4 cameras makes this an evening of connection with the world as well as audience and artist live together. Edited show airs on University Of Georgia&#39;s NPR station WUGA www.wuga.org 
LOCATION:NEW SOUTH SHOWCASE @ Vega Studios - 2145 S. Milledge St. Athens, Ga 30601, Athens, GA, 30601, US
END:VEVENT

END:VCALENDAR
