BEGIN:VCALENDAR
VERSION:2.0
BEGIN:VEVENT
CLASS:PUBLIC
CATEGORIES:MEETING
DTSTART;TZID=Europe/Athens:20171213T210000
DTEND;TZID=Europe/Athens:20171213T210000
SUMMARY:Alex Papadiamantis at HolyWood Stage
DESCRIPTION:Age Limit: All Ages\n\nDetails: presentation album &#39;&#39;mikres rogmes&#39;&#39;\n
LOCATION:HolyWood Stage - Leoforos Vouliagmenis, Athens, 17236, GR
END:VEVENT

END:VCALENDAR
