BEGIN:VCALENDAR
VERSION:2.0
BEGIN:VEVENT
CLASS:PUBLIC
CATEGORIES:MEETING
DTSTART;TZID=Pacific/Auckland:20171209T110000
DTEND;TZID=Pacific/Auckland:20171209T110000
SUMMARY:Phreaze at Arataki Christmas Party
DESCRIPTION:Age Limit: All Ages\n\nDetails: FREE!! SANTA, ENTERTAINMENT, KIDS PREZZYS, BOUNCY CASTLES &amp; MORE!! 11am-5pm
LOCATION:Arataki Christmas Party - Arataki Community Centre, Arataki, BOP, NZ
END:VEVENT

END:VCALENDAR
