BEGIN:VCALENDAR
VERSION:2.0
BEGIN:VEVENT
CLASS:PUBLIC
CATEGORIES:MEETING
DTSTART;TZID=Pacific/Auckland:20171202T160000
DTEND;TZID=Pacific/Auckland:20171202T160000
SUMMARY:Phreaze at Tye Park Fireworks Extravaganza
DESCRIPTION:Age Limit: All Ages\n\nDetails: GOLD COIN DONATION - Fireworks, Entertainment, Rides &amp; More!! 4pm-Dark!
LOCATION:Tye Park Fireworks Extravaganza - Forrester Road, Welcome Bay, BOP, NZ
END:VEVENT

END:VCALENDAR
